BEGIN:VCALENDAR
VERSION:2.0
PRODID:icalendar-ruby
CALSCALE:GREGORIAN
METHOD:PUBLISH
BEGIN:VEVENT
DTSTAMP:20260421T152304Z
UID:130-566924@verdefaith.org
DTSTART:20260924T160000Z
DTEND:20260924T163000Z
CLASS:PUBLIC
CREATED:20260421T075740
DESCRIPTION:
LAST-MODIFIED:20260421T075740
LOCATION:Chapel
SUMMARY:Community Prayer with Pastor Steve
URL;VALUE=URI:https://www.verdefaith.org/events/community-prayer-with-pasto
 r-steve--130/2026-09-24
END:VEVENT
END:VCALENDAR
