BEGIN:VCALENDAR
VERSION:2.0
PRODID:icalendar-ruby
CALSCALE:GREGORIAN
METHOD:PUBLISH
BEGIN:VEVENT
DTSTAMP:20260421T180104Z
UID:130-567510@verdefaith.org
DTSTART:20261008T160000Z
DTEND:20261008T163000Z
CLASS:PUBLIC
CREATED:20260421T103800
DESCRIPTION:
LAST-MODIFIED:20260421T103800
LOCATION:Chapel
SUMMARY:Community Prayer with Pastor Steve
URL;VALUE=URI:https://www.verdefaith.org/events/community-prayer-with-pasto
 r-steve--130/2026-10-08
END:VEVENT
END:VCALENDAR
