BEGIN:VCALENDAR
VERSION:2.0
PRODID:icalendar-ruby
CALSCALE:GREGORIAN
METHOD:PUBLISH
BEGIN:VEVENT
DTSTAMP:20260421T220751Z
UID:130-568097@verdefaith.org
DTSTART:20261029T160000Z
DTEND:20261029T163000Z
CLASS:PUBLIC
CREATED:20260421T131346
DESCRIPTION:
LAST-MODIFIED:20260421T131346
LOCATION:Chapel
SUMMARY:Community Prayer with Pastor Steve
URL;VALUE=URI:https://www.verdefaith.org/events/community-prayer-with-pasto
 r-steve--130/2026-10-29
END:VEVENT
END:VCALENDAR
